BEGIN:VCALENDAR
VERSION:2.0
PRODID:-//Squarespace Inc/Squarespace 6//v6//EN
BEGIN:VEVENT
UID:5c286011f950b760dd4c4480@squarespace.com
DTSTAMP:20190108T050339Z
DTSTART:20190110T033000Z
DTEND:20190110T063000Z
SUMMARY:New Year Pool Party
GEO:-12.428439;130.84147
LOCATION:Parap Swimming Pool\, Address 77 Ross Smith Ave\, Parap\, Australi
 a
END:VEVENT
END:VCALENDAR
