BEGIN:VCALENDAR
VERSION:2.0
PRODID:-//Squarespace Inc/Squarespace 6//v6//EN
BEGIN:VEVENT
UID:5c2868100e2e72e38d7719fd@squarespace.com
DTSTAMP:20190108T050636Z
DTSTART:20190111T010000Z
DTEND:20190111T023000Z
SUMMARY:#Online Portfolios: Get That Job
GEO:-12.464417;130.844846
LOCATION:Darwin City Library - Civic Center\, Harry Chan Ave\, Darwin City\
 , Australia
END:VEVENT
END:VCALENDAR
