BEGIN:VCALENDAR
VERSION:2.0
PRODID:-//Squarespace Inc/Squarespace 6//v6//EN
BEGIN:VEVENT
UID:5c28824303ce64cdbb2e7dd4@squarespace.com
DTSTAMP:20190102T061255Z
DTSTART:20190104T053000Z
DTEND:20190104T070000Z
SUMMARY:Tech Zone
GEO:-12.464417;130.844846
LOCATION:City of Darwin Library\, Civic Center\, Harry Chan Avenue\, Darwin 
 City\, NT\, 0800\, Australia
END:VEVENT
END:VCALENDAR
