BEGIN:VCALENDAR
VERSION:2.0
PRODID:-//Squarespace Inc/Squarespace 6//v6//EN
BEGIN:VEVENT
UID:5c28809faa4a995f08a6814f@squarespace.com
DTSTAMP:20190108T050051Z
DTSTART:20190108T053000Z
DTEND:20190108T073000Z
SUMMARY:Tech Zone
GEO:-12.374247;130.879833
LOCATION:Casuarina Library\, 17 Bradshaw Terrace\, Casuarina\, NT\, 0810\, 
 Australia
END:VEVENT
END:VCALENDAR
