BEGIN:VCALENDAR
VERSION:2.0
PRODID:-//Squarespace Inc/Squarespace 6//v6//EN
BEGIN:VEVENT
UID:5c2885d2cd836676a19cc05d@squarespace.com
DTSTAMP:20190108T051147Z
DTSTART:20190114T003000Z
DTEND:20190114T020000Z
SUMMARY:Pop Up ~ Tech Zone
GEO:-12.386721;130.850808
LOCATION:Nightcliff Library\, Pavonia Place\, Nightcliff\, NT\, 0810\, Aust
 ralia
END:VEVENT
END:VCALENDAR
