BEGIN:VCALENDAR
VERSION:2.0
PRODID:-//Squarespace Inc/Squarespace 6//v6//EN
BEGIN:VEVENT
UID:5c288324032be425c6798081@squarespace.com
DTSTAMP:20190108T051320Z
DTSTART:20190114T053000Z
DTEND:20190114T070000Z
SUMMARY:Tech Zone
GEO:-12.374247;130.879833
LOCATION:City of Darwin Library\, Harry Chan Avenue\, Darwin City\, NT\, 08
 00\, Australia
END:VEVENT
END:VCALENDAR
