BEGIN:VCALENDAR
VERSION:2.0
PRODID:-//Squarespace Inc/Squarespace 6//v6//EN
BEGIN:VEVENT
UID:5c282ac71ae6cf9b88405e05@squarespace.com
DTSTAMP:20190102T061215Z
DTSTART:20190102T053000Z
DTEND:20190102T073000Z
SUMMARY:Tech Zone
GEO:-12.374247;130.879833
LOCATION:Casuarina Library\, 17 Bradshaw Terrace\, Casuarina\, NT\, 0810\, 
 Australia
END:VEVENT
END:VCALENDAR
