BEGIN:VCALENDAR
VERSION:2.0
PRODID:-//Squarespace Inc/Squarespace 6//v6//EN
BEGIN:VEVENT
UID:5c288ad6758d46566df88a27@squarespace.com
DTSTAMP:20190108T051640Z
DTSTART:20190115T050000Z
DTEND:20190115T070000Z
SUMMARY:Burning Circus
GEO:-12.370828;130.882835
LOCATION:The SHAK Youth Center\, 3/58 Bradshaw Terrace\, Casuarina\, NT\, 0
 810\, Australia
END:VEVENT
END:VCALENDAR
