BEGIN:VCALENDAR
VERSION:2.0
PRODID:-//Squarespace Inc/Squarespace 6//v6//EN
BEGIN:VEVENT
UID:5c288818c2241bc8b4e5d354@squarespace.com
DTSTAMP:20190108T051107Z
DTSTART:20190113T233000Z
DTEND:20190114T133000Z
SUMMARY:*$8 Movies for Students
GEO:-12.37493;130.881522
LOCATION:BCC Event Cinemas\, 247 Trower Road\, Casuarina\, NT\, 0810\, Aust
 ralia
END:VEVENT
END:VCALENDAR
