BEGIN:VCALENDAR
VERSION:2.0
PRODID:-//Squarespace Inc/Squarespace 6//v6//EN
BEGIN:VEVENT
UID:5c283fad0e2e72e38d75c964@squarespace.com
DTSTAMP:20190107T051457Z
DTSTART:20190106T233000Z
DTEND:20190107T133000Z
SUMMARY:*$8 Movies for Students
GEO:-12.37493;130.881522
LOCATION:BCC Event Cinemas\, 247 Trower Road\, Casuarina\, NT\, 0810\, Aust
 ralia
END:VEVENT
END:VCALENDAR
