BEGIN:VCALENDAR
VERSION:2.0
PRODID:-//Squarespace Inc/Squarespace 6//v6//EN
BEGIN:VEVENT
UID:5c32ea0fcd8366559350f366@squarespace.com
DTSTAMP:20190108T051924Z
DTSTART:20190116T003000Z
DTEND:20190116T020000Z
SUMMARY:Insect festival: Nightcliff
GEO:-12.386721;130.850808
LOCATION:Nightcliff Library\, Pavonia Place\, Nightcliff\, NT\, 0810\, Aust
 ralia
END:VEVENT
END:VCALENDAR
