BEGIN:VCALENDAR
VERSION:2.0
PRODID:-//Squarespace Inc/Squarespace 6//v6//EN
BEGIN:VEVENT
UID:5c32e1ad562fa7a26eddabfd@squarespace.com
DTSTAMP:20190108T051421Z
DTSTART:20190114T233000Z
DTEND:20190115T033000Z
SUMMARY:*#Let's Ride: Learning to Ride
GEO:-12.428902;130.840701
LOCATION:Parap Road Safety Centre\, 24 Holtze St\, Parap\, Australia
END:VEVENT
END:VCALENDAR
