BEGIN:VCALENDAR
VERSION:2.0
PRODID:-//Squarespace Inc/Squarespace 6//v6//EN
BEGIN:VEVENT
UID:5c27177e562fa795d8708196@squarespace.com
DTSTAMP:20181230T081129Z
DTSTART:20190101T043000Z
DTEND:20190101T083000Z
SUMMARY:New Year's Day at the Darwin Waterfront
GEO:-12.466972;130.846327
LOCATION:7 Kitchener Drive\, Darwin City\, NT\, 0800\, Australia
END:VEVENT
END:VCALENDAR
