BEGIN:VCALENDAR
VERSION:2.0
PRODID:-//Squarespace Inc/Squarespace 6//v6//EN
BEGIN:VEVENT
UID:5c28887fc2241bc8b4e5d53b@squarespace.com
DTSTAMP:20190108T051226Z
DTSTART:20190114T033000Z
DTEND:20190114T070000Z
SUMMARY:SHAK @ Cas Pool
GEO:-12.374137;130.885239
LOCATION:Casuarina Pool\, 17 Gsell Street\, Casuarina\, NT\, 0810\, Austral
 ia
END:VEVENT
END:VCALENDAR
