BEGIN:VCALENDAR
VERSION:2.0
PRODID:-//Squarespace Inc/Squarespace 6//v6//EN
BEGIN:VEVENT
UID:5c333b776d2a730597223ef2@squarespace.com
DTSTAMP:20190108T051852Z
DTSTART:20190116T003000Z
DTEND:20190116T033000Z
SUMMARY:Softball Sports Day!
GEO:-12.387184;130.906875
LOCATION:Leanyer Recreation Park\, 215 Vanderlin Dr\, Leanyer\, Australia
END:VEVENT
END:VCALENDAR
