BEGIN:VCALENDAR
VERSION:2.0
PRODID:-//Squarespace Inc/Squarespace 6//v6//EN
BEGIN:VEVENT
UID:5c32cb33aa4a99548f8ad6c6@squarespace.com
DTSTAMP:20190108T051012Z
DTSTART:20190113T003000Z
DTEND:20190113T073000Z
SUMMARY:*SPIDERS Exhibition
GEO:-12.43687;130.834444
LOCATION:Museum & Art Gallery of The Northern Territory\, 19 Conacher Stree
 t\, The Gardens\, NT\, 0820\, Australia
END:VEVENT
END:VCALENDAR
