BEGIN:VCALENDAR
VERSION:2.0
PRODID:-//Squarespace Inc/Squarespace 6//v6//EN
BEGIN:VEVENT
UID:5c2889a31ae6cf9b88431c3e@squarespace.com
DTSTAMP:20190108T051551Z
DTSTART:20190115T003000Z
DTEND:20190115T023000Z
SUMMARY:Surf &amp\; Sail
GEO:-12.466631;130.846683
LOCATION:Waterfront Lagoon\, 7 Kitchener Drive\, Darwin City\, NT\, 0800\, 
 Australia
END:VEVENT
END:VCALENDAR
