BEGIN:VCALENDAR
VERSION:2.0
PRODID:-//Squarespace Inc/Squarespace 6//v6//EN
BEGIN:VEVENT
UID:5c285ad9b8a0456c72bf0110@squarespace.com
DTSTAMP:20190107T061725Z
DTSTART:20190108T003000Z
DTEND:20190108T023000Z
SUMMARY:Surf &amp\; Sail
GEO:-12.466631;130.846683
LOCATION:Waterfront Lagoon\, 7 Kitchener Drive\, Darwin City\, NT\, 0800\, 
 Australia
END:VEVENT
END:VCALENDAR
