BEGIN:VCALENDAR
VERSION:2.0
PRODID:-//Squarespace Inc/Squarespace 6//v6//EN
BEGIN:VEVENT
UID:5c287ea4575d1f0c3174426d@squarespace.com
DTSTAMP:20190108T045937Z
DTSTART:20190108T023000Z
DTEND:20190108T073000Z
SUMMARY:SHAKTIVITIES
GEO:-12.465207;130.845929
LOCATION:The SHAK Youth Center\, 3/58 Bradshaw Terrace\, Casuarina\, NT\, 0
 810\, Australia
END:VEVENT
END:VCALENDAR
