BEGIN:VCALENDAR
VERSION:2.0
PRODID:-//Squarespace Inc/Squarespace 6//v6//EN
BEGIN:VEVENT
UID:5c2721ffcd836676a19071e4@squarespace.com
DTSTAMP:20190102T061148Z
DTSTART:20190102T023000Z
DTEND:20190102T073000Z
SUMMARY:The SHAK
GEO:-12.465207;130.845929
LOCATION:The SHAK Youth Center\, 3/58 Bradshaw Terrace\, Casuarina\, NT\, 0
 810\, Australia
END:VEVENT
END:VCALENDAR
