BEGIN:VCALENDAR
VERSION:2.0
PRODID:-//Squarespace Inc/Squarespace 6//v6//EN
BEGIN:VEVENT
UID:5c2891dd70a6adae0b214464@squarespace.com
DTSTAMP:20190108T050917Z
DTSTART:20190112T003000Z
DTEND:20190112T133000Z
SUMMARY:*School Holidays at TimeZone
GEO:-12.37493;130.881522
LOCATION:Timezone\, The Quarter\, 247 Trower Road\, Casuarina\, NT\, 0810\, 
 Australia
END:VEVENT
END:VCALENDAR
