BEGIN:VCALENDAR
VERSION:2.0
PRODID:-//Squarespace Inc/Squarespace 6//v6//EN
BEGIN:VEVENT
UID:5c283bc1758d46566df611a2@squarespace.com
DTSTAMP:20190102T061308Z
DTSTART:20190105T090000Z
DTEND:20190105T120000Z
SUMMARY:*Unlimited Bowling
GEO:-12.388435;130.848848
LOCATION:The Planet\, 69 Progress Drive\, Nightcliff\, Australia
END:VEVENT
END:VCALENDAR
