BEGIN:VCALENDAR
VERSION:2.0
PRODID:-//Squarespace Inc/Squarespace 6//v6//EN
BEGIN:VEVENT
UID:54580734e4b0e4fd236fe8d1@squarespace.com
DTSTAMP:20141105T032053Z
DTSTART:20141114T083000Z
DTEND:20141114T113000Z
SUMMARY:Catching Trivia - The 2nd Annual Hunger Games Quiz
GEO:-12.371411;130.869473
LOCATION:Casuarina Library\, Casuarina
END:VEVENT
END:VCALENDAR
