BEGIN:VCALENDAR
VERSION:2.0
PRODID:-//Squarespace Inc/Squarespace 6//v6//EN
BEGIN:VEVENT
UID:55079d5ce4b0115fc60adc93@squarespace.com
DTSTAMP:20150317T075242Z
DTSTART:20150410T073000Z
DTEND:20150410T083000Z
SUMMARY:Sietta Live in the Park
END:VEVENT
END:VCALENDAR
