BEGIN:VCALENDAR
VERSION:2.0
PRODID:-//Squarespace Inc/Squarespace 6//v6//EN
BEGIN:VEVENT
UID:54474f19e4b07dee563fbb7b@squarespace.com
DTSTAMP:20141022T064512Z
DTSTART:20141114T080000Z
DTEND:20141114T113000Z
SUMMARY:LAUNCH Pop-Up Gig feat. OK Kaleidoscope & DJ Fishslappa
GEO:-12.456736;130.836195
LOCATION:Mayfair Gallery\, Harriet Pl\, Darwin\, NT\, 0800\, Australia
END:VEVENT
END:VCALENDAR
